{"text_format":"1","workbook":"xlsx","n_sheets":4,"sheets":["Jednotlivci","Družstva","VPs1 VRs1","Ostatní"],"not_rendered":{"charts":0,"images":0,"macros":0,"external_links":0,"defined_names":0,"comments":0,"pivot_tables":0},"unopened":[],"bounds":{"document_bytes":16777216,"sheet_cells":100000,"rows_first":2000,"rows_last":500,"rows_between":2000,"halvings":0,"cell_chars":16384,"cell_head_chars":4096},"cells_cut":0,"cells_raw":0,"read":"whole","date_system":"1900"}

{"sheet":"Jednotlivci","index":0,"n_rows":48,"n_cols":20,"rows_kept":48,"cut":false,"hidden":false,"merged":[[3,8,3,10]]}
["Jizerská oblast ","                   Jizerská oblast",null,null,null,"Pořadatel:",null,null,"KVZ Liberec 07-41-02"]
["Ještědský pohár  XIII.ročník","Ještědský pohár  XVI.ročník",null,null,null,"Ředitel:",null,null,"Ing. Miroslav Hanzlík"]
["Soutěž jednotlivců a družstev","Soutěž jednotlivců a družstev",null,null,null,"Místo:",null,null,"střelnice Hodkovice n. M."]
["Kal. soutěž č. C4- 0506","Kal. soutěž č. C4- 0516",null,null,null,"Datum:",null,null,"2016-06-04"]
[]
[null,null,"VÝSLEDKOVÁ LISTINA  JEDNOTLIVCI"]
[]
["Místo","St.č.","Jméno","Rok nar.","Družstvo","VPs 1  VRs 1","VT","Místo","ZKM 456","Místo","SVT 40","Místo","SA 58","Místo","TT 33","Místo","Slávia","Místo","Celkem","Místo"]
[1,1,"HANZLÍK Miroslav",1958,"KVZ Liberec 1",{"$f":"'VPs1 VRs1'!T13","v":95},{"$f":"IF(AND(F9>=98,F9<=100),\"M\",IF(AND(F9>=94,F9<=97),\"I.\",IF(AND(F9>=90,F9<=93),\"II.\",IF(AND(F9>=84,F9<=89),\"III.\",\" \"))))","v":"I."},{"$f":"RANK(F9,$F$9:$F$40)","v":12},{"$f":"Ostatní!I13","v":40},{"$f":"RANK(I9,$I$9:$I$40)","v":16},{"$f":"Ostatní!O13","v":46},{"$f":"RANK(K9,$K$9:$K$40)","v":12},{"$f":"Ostatní!U13","v":58},{"$f":"RANK(M9,$M$9:$M$40)","v":1},{"$f":"Ostatní!AA13","v":28},{"$f":"RANK(O9,$O$9:$O$40)","v":31},{"$f":"Ostatní!AG13","v":40},{"$f":"RANK(Q9,$Q$9:$Q$40)","v":4},{"$f":"SUM(F9+I9+K9+M9+O9+Q9)","v":307},{"$f":"RANK(S9,$S$9:$S$40)","v":11}]
[2,2,"TROST Karel",1951,"KVZ Liberec 1",{"$f":"'VPs1 VRs1'!T14","v":99},"M",4,{"$f":"Ostatní!I14","v":37},21,{"$f":"Ostatní!O14","v":44},19,{"$f":"Ostatní!U14","v":48},{"$f":"RANK(M10,$M$9:$M$40)","v":18},{"$f":"Ostatní!AA14","v":45},{"$f":"RANK(O10,$O$9:$O$40)","v":3},{"$f":"Ostatní!AG14","v":32},{"$f":"RANK(Q10,$Q$9:$Q$40)","v":17},305,13]
[3,3,"MENDYSZEWSKI Jan",1955,"KVZ Liberec 1",{"$f":"'VPs1 VRs1'!T15","v":94},"I.",{"$f":"RANK(F11,$F$9:$F$40)","v":15},{"$f":"Ostatní!I15","v":40},16,{"$f":"Ostatní!O15","v":49},1,{"$f":"Ostatní!U15","v":54},{"$f":"RANK(M11,$M$9:$M$40)","v":4},{"$f":"Ostatní!AA15","v":44},{"$f":"RANK(O11,$O$9:$O$40)","v":4},{"$f":"Ostatní!AG15","v":37},{"$f":"RANK(Q11,$Q$9:$Q$40)","v":9},318,4]
[4,4,"VNOUČEK Miloš",1964,"KVZ Liberec 1",{"$f":"'VPs1 VRs1'!T16","v":100},"M",1,{"$f":"Ostatní!I16","v":39},19,{"$f":"Ostatní!O16","v":46},12,{"$f":"Ostatní!U16","v":52},6,{"$f":"Ostatní!AA16","v":46},2,{"$f":"Ostatní!AG16","v":41},2,324,1]
[5,5,"VAŇÁTKO Petr",1961,"KVZ Liberec  2",{"$f":"'VPs1 VRs1'!T17","v":88},"III.",23,{"$f":"Ostatní!I17","v":46},2,{"$f":"Ostatní!O17","v":45},17,{"$f":"Ostatní!U17","v":50},{"$f":"RANK(M13,$M$9:$M$40)","v":13},{"$f":"Ostatní!AA17","v":35},{"$f":"RANK(O13,$O$9:$O$40)","v":28},{"$f":"Ostatní!AG17","v":26},{"$f":"RANK(Q13,$Q$9:$Q$40)","v":27},290,18]
[6,6,"KUTÍK Milan",1976,"KVZ Liberec  2",{"$f":"'VPs1 VRs1'!T18","v":77}," ",31,{"$f":"Ostatní!I18","v":42},7,{"$f":"Ostatní!O18","v":44},19,{"$f":"Ostatní!U18","v":46},{"$f":"RANK(M14,$M$9:$M$40)","v":22},{"$f":"Ostatní!AA18","v":44},4,{"$f":"Ostatní!AG18","v":23},29,276,25]
[7,7,"HANZLÍK Miroslav ml.",1990,"KVZ Liberec  2",{"$f":"'VPs1 VRs1'!T19","v":86},"III.",25,{"$f":"Ostatní!I19","v":45},3,{"$f":"Ostatní!O19","v":44},19,{"$f":"Ostatní!U19","v":52},{"$f":"RANK(M15,$M$9:$M$40)","v":7},{"$f":"Ostatní!AA19","v":35},28,{"$f":"Ostatní!AG19","v":14},32,276,25]
[8,8,"VNOUČEK Tomáš",1988,"KVZ Liberec  2",{"$f":"'VPs1 VRs1'!T20","v":97},"I.",7,{"$f":"Ostatní!I20","v":41},13,{"$f":"Ostatní!O20","v":44},19,{"$f":"Ostatní!U20","v":52},6,{"$f":"Ostatní!AA20","v":42},10,{"$f":"Ostatní!AG20","v":38},6,314,6]
[9,9,"LOUDA Jaroslav",1954,"KVZ Turnov",{"$f":"'VPs1 VRs1'!T21","v":78}," ",30,{"$f":"Ostatní!I21","v":9},32,{"$f":"Ostatní!O21","v":35},31,{"$f":"Ostatní!U21","v":28},{"$f":"RANK(M17,$M$9:$M$40)","v":32},{"$f":"Ostatní!AA21","v":38},25,{"$f":"Ostatní!AG21","v":36},11,224,32]
[null,10,"HUŠEK Ladislav",1954,"KVZ Turnov",{"$f":"'VPs1 VRs1'!T22","v":91},"II.",19,{"$f":"Ostatní!I22","v":31},26,{"$f":"Ostatní!O22","v":48},3,{"$f":"Ostatní!U22","v":52},6,{"$f":"Ostatní!AA22","v":29},30,{"$f":"Ostatní!AG22","v":34},15,285,24]
[10,11,"HUDSKÝ Vítězslav",1949,"KVZ Turnov",{"$f":"'VPs1 VRs1'!T23","v":89},"III.",21,{"$f":"Ostatní!I23","v":35},22,{"$f":"Ostatní!O23","v":44},19,{"$f":"Ostatní!U23","v":50},{"$f":"RANK(M19,$M$9:$M$40)","v":13},{"$f":"Ostatní!AA23","v":39},23,{"$f":"Ostatní!AG23","v":30},19,287,21]
[11,12,"ŠÍDA Bohuslav",1960,"KVZ Turnov",{"$f":"'VPs1 VRs1'!T24","v":95},"I.",12,{"$f":"Ostatní!I24","v":29},27,{"$f":"Ostatní!O24","v":41},28,{"$f":"Ostatní!U24","v":48},18,{"$f":"Ostatní!AA24","v":46},1,{"$f":"Ostatní!AG24","v":41},3,300,14]
[12,13,"STRÁNSKÝ Jaromír",1953,"KVZ Jenišovice ",{"$f":"'VPs1 VRs1'!T25","v":97},"I.",7,{"$f":"Ostatní!I25","v":40},16,{"$f":"Ostatní!O25","v":47},8,{"$f":"Ostatní!U25","v":46},22,{"$f":"Ostatní!AA25","v":41},18,{"$f":"Ostatní!AG25","v":38},{"$f":"RANK(Q21,$Q$9:$Q$40)","v":6},309,10]
[13,14,"MIKULE Roman",1970,"KVZ Jenišovice ",{"$f":"'VPs1 VRs1'!T26","v":98},"M",6,{"$f":"Ostatní!I26","v":42},7,{"$f":"Ostatní!O26","v":44},19,{"$f":"Ostatní!U26","v":46},22,{"$f":"Ostatní!AA26","v":43},9,{"$f":"Ostatní!AG26","v":38},6,311,9]
[14,15,"POKORNÝ Daniel",1968,"KVZ Jenišovice ",{"$f":"'VPs1 VRs1'!T27","v":89},"III.",{"$f":"RANK(F23,$F$9:$F$40)","v":21},{"$f":"Ostatní!I27","v":41},13,{"$f":"Ostatní!O27","v":44},19,{"$f":"Ostatní!U27","v":50},13,{"$f":"Ostatní!AA27","v":40},21,{"$f":"Ostatní!AG27","v":35},13,299,{"$f":"RANK(S23,$S$9:$S$40)","v":16}]
[15,16,"PLŮCHA Pavel",1964,"KVZ Tanvald",{"$f":"'VPs1 VRs1'!T28","v":98},"M",5,{"$f":"Ostatní!I28","v":44},4,{"$f":"Ostatní!O28","v":48},3,{"$f":"Ostatní!U28","v":48},18,{"$f":"Ostatní!AA28","v":42},10,{"$f":"Ostatní!AG28","v":41},1,321,2]
[16,17,"KUČERA Karel",1950,"KVZ Hodkovice ",{"$f":"'VPs1 VRs1'!T29","v":91},"II.",19,{"$f":"Ostatní!I29","v":29},{"$f":"RANK(I25,$I$9:$I$40)","v":27},{"$f":"Ostatní!O29","v":48},3,{"$f":"Ostatní!U29","v":50},13,{"$f":"Ostatní!AA29","v":42},10,{"$f":"Ostatní!AG29","v":30},19,290,18]
[17,18,"PEKLÁK Dalibor",1961,"KVZ Hodkovice ",{"$f":"'VPs1 VRs1'!T30","v":97},"I.",7,{"$f":"Ostatní!I30","v":34},24,{"$f":"Ostatní!O30","v":48},3,{"$f":"Ostatní!U30","v":56},2,{"$f":"Ostatní!AA30","v":42},10,{"$f":"Ostatní!AG30","v":35},13,312,8]
[18,19,"BRZÁK Jan",1972,"KVZ Hodkovice ",{"$f":"'VPs1 VRs1'!T31","v":97},"I.",7,{"$f":"Ostatní!I31","v":41},13,{"$f":"Ostatní!O31","v":47},{"$f":"RANK(K27,$K$9:$K$40)","v":8},{"$f":"Ostatní!U31","v":52},7,{"$f":"Ostatní!AA31","v":42},10,{"$f":"Ostatní!AG31","v":36},11,315,5]
[19,20,"CILICHOVÁ Jaroslava",1973,"KVZ Hodkovice ",{"$f":"'VPs1 VRs1'!T32","v":93},"II.",16,{"$f":"Ostatní!I32","v":44},4,{"$f":"Ostatní!O32","v":48},3,{"$f":"Ostatní!U32","v":52},7,{"$f":"Ostatní!AA32","v":44},4,{"$f":"Ostatní!AG32","v":32},17,313,7]
[20,21,"PROCHÁZKA Jaroslav",1961,"KVZ Liberec  3",{"$f":"'VPs1 VRs1'!T33","v":81}," ",29,{"$f":"Ostatní!I33","v":42},7,{"$f":"Ostatní!O33","v":47},{"$f":"RANK(K29,$K$9:$K$40)","v":8},{"$f":"Ostatní!U33","v":54},4,{"$f":"Ostatní!AA33","v":44},4,{"$f":"Ostatní!AG33","v":39},5,307,12]
[21,22,"HLAVATÝ Josef",1958,"KVZ Liberec  3",{"$f":"'VPs1 VRs1'!T34","v":72}," ",32,{"$f":"Ostatní!I34","v":44},4,{"$f":"Ostatní!O34","v":41},28,{"$f":"Ostatní!U34","v":56},2,{"$f":"Ostatní!AA34","v":44},4,{"$f":"Ostatní!AG34","v":29},25,286,{"$f":"RANK(S30,$S$9:$S$40)","v":22}]
[22,23,"BENÁČEK Martin",1965,"KVZ Liberec  3",{"$f":"'VPs1 VRs1'!T35","v":100},"M",2,{"$f":"Ostatní!I35","v":42},7,{"$f":"Ostatní!O35","v":47},8,{"$f":"Ostatní!U35","v":46},22,{"$f":"Ostatní!AA35","v":42},10,{"$f":"Ostatní!AG35","v":23},29,300,15]
[23,24,"RESL Jan",1961,"KVZ Hodkovice ",{"$f":"'VPs1 VRs1'!T36","v":95},"I.",{"$f":"RANK(F32,$F$9:$F$40)","v":12},{"$f":"Ostatní!I36","v":42},7,{"$f":"Ostatní!O36","v":45},17,{"$f":"Ostatní!U36","v":44},27,{"$f":"Ostatní!AA36","v":40},21,{"$f":"Ostatní!AG36","v":30},19,296,{"$f":"RANK(S32,$S$9:$S$40)","v":17}]
[24,25,"HALAMA Jan",1977,"KVZ Varnsdorf",{"$f":"'VPs1 VRs1'!T37","v":88},"III.",23,{"$f":"Ostatní!I37","v":42},7,{"$f":"Ostatní!O37","v":40},30,{"$f":"Ostatní!U37","v":46},22,{"$f":"Ostatní!AA37","v":42},10,{"$f":"Ostatní!AG37","v":28},26,286,22]
[25,26,"NOVOTNÝ Tomáš",1992,"KVZ Varnsdorf",{"$f":"'VPs1 VRs1'!T38","v":93},"II.",16,{"$f":"Ostatní!I38","v":39},19,{"$f":"Ostatní!O38","v":46},12,{"$f":"Ostatní!U38","v":42},29,{"$f":"Ostatní!AA38","v":17},32,{"$f":"Ostatní!AG38","v":26},27,263,29]
[26,27,"ČERVINKA Leoš",1970,"KVZ Jenišovice ",{"$f":"'VPs1 VRs1'!T39","v":97},"I.",7,{"$f":"Ostatní!I39","v":29},27,{"$f":"Ostatní!O39","v":26},32,{"$f":"Ostatní!U39","v":44},27,{"$f":"Ostatní!AA39","v":36},27,{"$f":"Ostatní!AG39","v":37},9,269,28]
[null,28,"VELC Jindřich",1948,"KVZ Liberec",{"$f":"'VPs1 VRs1'!T40","v":92},"II.",18,{"$f":"Ostatní!I40","v":21},30,{"$f":"Ostatní!O40","v":46},12,{"$f":"Ostatní!U40","v":40},31,{"$f":"Ostatní!AA40","v":37},26,{"$f":"Ostatní!AG40","v":19},31,255,31]
[null,29,"KRÁTKÝ Karel",1955,"KVZ Liberec 4",{"$f":"'VPs1 VRs1'!T41","v":99},"M",3,{"$f":"Ostatní!I41","v":47},1,{"$f":"Ostatní!O41","v":49},1,{"$f":"Ostatní!U41","v":54},4,{"$f":"Ostatní!AA41","v":41},18,{"$f":"Ostatní!AG41","v":30},19,320,3]
[null,30,"KLACEK Miloš",1939,"KVZ Liberec 4",{"$f":"'VPs1 VRs1'!T42","v":85},"III.",26,{"$f":"Ostatní!I42","v":13},31,{"$f":"Ostatní!O42","v":42},26,{"$f":"Ostatní!U42","v":48},18,{"$f":"Ostatní!AA42","v":39},23,{"$f":"Ostatní!AG42","v":30},19,257,30]
[null,31,"POLENO Dušan",1951,"KVZ Liberec 4",{"$f":"'VPs1 VRs1'!T43","v":84},"III.",27,{"$f":"Ostatní!I43","v":35},22,{"$f":"Ostatní!O43","v":46},12,{"$f":"Ostatní!U43","v":50},13,{"$f":"Ostatní!AA43","v":42},10,{"$f":"Ostatní!AG43","v":33},16,290,18]
[null,32,"MUSIL Martin",1977,"KVZ Liberec 4",{"$f":"'VPs1 VRs1'!T44","v":82}," ",28,{"$f":"Ostatní!I44","v":34},24,{"$f":"Ostatní!O44","v":42},26,{"$f":"Ostatní!U44","v":42},29,{"$f":"Ostatní!AA44","v":41},18,{"$f":"Ostatní!AG44","v":30},19,271,27]
[null,"Závod byl ukončen v 15.10 hod."]
[null,"Hlavní rozhodčí:",null,"Miloš Klacek 1-046",null,null,null,null,null,null,"Tajemník:                 Petr Vaňátko 3-486"]
[null,"Řídící střelby:",null,"Ing. Miroslav Hanzlík 1-001, Ing. Karel Krátký 2-165",null,null,null,null,null,null,"Zdravotník:              Tomáš Vnouček"]
[null,"Úsekoví rozhodčí:",null,"Jan Mendyszewski 3-490, Ing. Jaroslav Procházka 2-301",null,null,null,null,null,null,"Správce střelnice: Jan Brzák"]
[null,null,null,"Jindřich Velc 2-153, Milan Kutík 3-126, Dušan Poleno 2-144"]
[null,"Inspektor zbraní:",null,"Jan Mendyszewski 3-490"]
[null,"Předseda hodnotící komise:",null,"Miloš Vnouček 1-111"]
[null,"Člen hodnotící komise:",null,"Petr Vaňátko 3-486"]

{"sheet":"Družstva","index":1,"n_rows":24,"n_cols":16,"rows_kept":24,"cut":false,"hidden":false,"merged":[[3,7,3,9]]}
["                Jizerská oblast",null,null,null,"Pořadatel:",null,null,"KVZ Liberec 07-41-02"]
["Ještědský pohár  XIV.ročník",null,null,null,"Ředitel:",null,null,"Ing. Miroslav Hanzlík"]
["Soutěž jednotlivců a družstev",null,null,null,"Místo:",null,null,"střelnice Hodkovice n. M."]
["Kal. soutěž č. C4- 0516",null,null,null,"Datum:",null,null,"2014-06-07"]
[]
[null,"VÝSLEDKOVÁ LISTINA  DRUŽSTVA"]
[]
["St.číslo","Družstvo","VPs 1  VRs 1","Místo","ZKM 456","Místo","SVT 40","Místo","SA 58","Místo","TT 33","Místo","Slávia ","Místo","Celkem","Místo"]
[1,{"$f":"Jednotlivci!E9","v":"KVZ Liberec 1"},{"$f":"Jednotlivci!F9+Jednotlivci!F10+Jednotlivci!F11+Jednotlivci!F12","v":388},{"$f":"RANK(C9,$C$9:$C$16)","v":1},{"$f":"Jednotlivci!I9+Jednotlivci!I10+Jednotlivci!I11+Jednotlivci!I12","v":156},{"$f":"RANK(E9,$E$9:$E$16)","v":4},{"$f":"Jednotlivci!K9+Jednotlivci!K10+Jednotlivci!K11+Jednotlivci!K12","v":185},{"$f":"RANK(G9,$G$9:$G$16)","v":2},{"$f":"Jednotlivci!M9+Jednotlivci!M10+Jednotlivci!M11+Jednotlivci!M12","v":212},{"$f":"RANK(I9,$I$9:$I$16)","v":1},{"$f":"Jednotlivci!O9+Jednotlivci!O10+Jednotlivci!O11+Jednotlivci!O12","v":163},{"$f":"RANK(K9,$K$9:$K$16)","v":4},{"$f":"Jednotlivci!Q9+Jednotlivci!Q10+Jednotlivci!Q11+Jednotlivci!Q12","v":150},{"$f":"RANK(M9,$M$9:$M$16)","v":2},{"$f":"SUM(C9+E9+G9+I9+K9+M9)","v":1254},{"$f":"RANK(O9,$O$9:$O$16)","v":1}]
[2,{"$f":"Jednotlivci!E13","v":"KVZ Liberec  2"},{"$f":"Jednotlivci!F13+Jednotlivci!F14+Jednotlivci!F15+Jednotlivci!F16","v":348},{"$f":"RANK(C10,$C$9:$C$16)","v":7},{"$f":"Jednotlivci!I13+Jednotlivci!I14+Jednotlivci!I15+Jednotlivci!I16","v":174},{"$f":"RANK(E10,$E$9:$E$16)","v":1},{"$f":"Jednotlivci!K13+Jednotlivci!K14+Jednotlivci!K15+Jednotlivci!K16","v":177},{"$f":"RANK(G10,$G$9:$G$16)","v":6},{"$f":"Jednotlivci!M13+Jednotlivci!M14+Jednotlivci!M15+Jednotlivci!M16","v":200},3,{"$f":"Jednotlivci!O13+Jednotlivci!O14+Jednotlivci!O15+Jednotlivci!O16","v":156},{"$f":"RANK(K10,$K$9:$K$16)","v":6},{"$f":"Jednotlivci!Q13+Jednotlivci!Q14+Jednotlivci!Q15+Jednotlivci!Q16","v":101},{"$f":"RANK(M10,$M$9:$M$16)","v":8},1156,{"$f":"RANK(O10,$O$9:$O$16)","v":5}]
[3,{"$f":"Jednotlivci!E19","v":"KVZ Turnov"},{"$f":"Jednotlivci!F17+Jednotlivci!F18+Jednotlivci!F19+Jednotlivci!F20","v":353},5,{"$f":"Jednotlivci!I17+Jednotlivci!I18+Jednotlivci!I19+Jednotlivci!I20","v":104},8,{"$f":"Jednotlivci!K17+Jednotlivci!K18+Jednotlivci!K19+Jednotlivci!K20","v":168},7,{"$f":"Jednotlivci!M17+Jednotlivci!M18+Jednotlivci!M19+Jednotlivci!M20","v":178},7,{"$f":"Jednotlivci!O17+Jednotlivci!O18+Jednotlivci!O19+Jednotlivci!O20","v":152},7,{"$f":"Jednotlivci!Q17+Jednotlivci!Q18+Jednotlivci!Q19+Jednotlivci!Q20","v":141},3,1096,7]
[4,{"$f":"Jednotlivci!E21","v":"KVZ Jenišovice "},{"$f":"Jednotlivci!F22+Jednotlivci!F23+Jednotlivci!F24+Jednotlivci!F21","v":382},2,{"$f":"Jednotlivci!I22+Jednotlivci!I23+Jednotlivci!I24+Jednotlivci!I21","v":167},3,{"$f":"Jednotlivci!K22+Jednotlivci!K23+Jednotlivci!K24+Jednotlivci!K21","v":183},3,{"$f":"Jednotlivci!M22+Jednotlivci!M23+Jednotlivci!M24+Jednotlivci!M21","v":190},6,{"$f":"Jednotlivci!O22+Jednotlivci!O23+Jednotlivci!O24+Jednotlivci!O21","v":166},3,{"$f":"Jednotlivci!Q22+Jednotlivci!Q23+Jednotlivci!Q24+Jednotlivci!Q21","v":152},1,1240,2]
[5,{"$f":"Jednotlivci!E25","v":"KVZ Hodkovice "},{"$f":"Jednotlivci!F26+Jednotlivci!F27+Jednotlivci!F28+Jednotlivci!F25","v":378},3,{"$f":"Jednotlivci!I26+Jednotlivci!I27+Jednotlivci!I28+Jednotlivci!I25","v":148},5,{"$f":"Jednotlivci!K26+Jednotlivci!K27+Jednotlivci!K28+Jednotlivci!K25","v":191},1,{"$f":"Jednotlivci!M26+Jednotlivci!M27+Jednotlivci!M28+Jednotlivci!M25","v":210},2,{"$f":"Jednotlivci!O26+Jednotlivci!O27+Jednotlivci!O28+Jednotlivci!O25","v":170},1,{"$f":"Jednotlivci!Q26+Jednotlivci!Q27+Jednotlivci!Q28+Jednotlivci!Q25","v":133},4,1230,3]
[6,{"$f":"Jednotlivci!E29","v":"KVZ Liberec  3"},{"$f":"Jednotlivci!F30+Jednotlivci!F31+Jednotlivci!F32+Jednotlivci!F29","v":348},7,{"$f":"Jednotlivci!I30+Jednotlivci!I31+Jednotlivci!I32+Jednotlivci!I29","v":170},2,{"$f":"Jednotlivci!K30+Jednotlivci!K31+Jednotlivci!K32+Jednotlivci!K29","v":180},4,{"$f":"Jednotlivci!M30+Jednotlivci!M31+Jednotlivci!M32+Jednotlivci!M29","v":200},3,{"$f":"Jednotlivci!O30+Jednotlivci!O31+Jednotlivci!O32+Jednotlivci!O29","v":170},2,{"$f":"Jednotlivci!Q30+Jednotlivci!Q31+Jednotlivci!Q32+Jednotlivci!Q29","v":121},6,1189,4]
[7,{"$f":"Jednotlivci!E33","v":"KVZ Varnsdorf"},{"$f":"Jednotlivci!F34+Jednotlivci!F35+Jednotlivci!F36+Jednotlivci!F33","v":370},4,{"$f":"Jednotlivci!I34+Jednotlivci!I35+Jednotlivci!I36+Jednotlivci!I33","v":131},6,{"$f":"Jednotlivci!K34+Jednotlivci!K35+Jednotlivci!K36+Jednotlivci!K33","v":158},8,{"$f":"Jednotlivci!M34+Jednotlivci!M35+Jednotlivci!M36+Jednotlivci!M33","v":172},8,{"$f":"Jednotlivci!O34+Jednotlivci!O35+Jednotlivci!O36+Jednotlivci!O33","v":132},8,{"$f":"Jednotlivci!Q34+Jednotlivci!Q35+Jednotlivci!Q36+Jednotlivci!Q33","v":110},7,1073,8]
[8,{"$f":"Jednotlivci!E37","v":"KVZ Liberec 4"},{"$f":"Jednotlivci!F38+Jednotlivci!F39+Jednotlivci!F40+Jednotlivci!F37","v":350},6,{"$f":"Jednotlivci!I38+Jednotlivci!I39+Jednotlivci!I40+Jednotlivci!I37","v":129},7,{"$f":"Jednotlivci!K38+Jednotlivci!K39+Jednotlivci!K40+Jednotlivci!K37","v":179},5,{"$f":"Jednotlivci!M38+Jednotlivci!M39+Jednotlivci!M40+Jednotlivci!M37","v":194},{"$f":"RANK(I16,$I$9:$I$16)","v":5},{"$f":"Jednotlivci!O38+Jednotlivci!O39+Jednotlivci!O40+Jednotlivci!O37","v":163},4,{"$f":"Jednotlivci!Q38+Jednotlivci!Q39+Jednotlivci!Q40+Jednotlivci!Q37","v":123},5,1138,6]
["Závod byl ukončen v 15.10 hod."]
["Hlavní rozhodčí:",null,"Miloš Klacek 1-046",null,null,null,null,null,null,"Tajemník:                 Petr Vaňátko 3-486"]
["Řídící střelby:",null,"Ing. Miroslav Hanzlík 1-001, Ing. Karel Krátký 2-165",null,null,null,null,null,null,"Zdravotník:              Tomáš Vnouček"]
["Úsekoví rozhodčí:",null,"Jan Mendyszewski 3-490, Ing. Jaroslav Procházka 2-301",null,null,null,null,null,null,"Správce střelnice: Jan Brzák"]
[null,null,"Jindřich Velc 2-153, Milan Kutík 3-126, Dušan Poleno 2-144"]
["Inspektor zbraní:",null,"Jan Mendyszewski 3-490"]
["Předseda hodnotící komise:",null,"Miloš Vnouček 1-111"]
["Člen hodnotící komise:",null,"Petr Vaňátko 3-486"]

{"sheet":"VPs1 VRs1","index":2,"n_rows":44,"n_cols":20,"rows_kept":44,"cut":false,"hidden":false,"merged":[[11,4,11,18]]}
[]
[]
[]
[]
[]
[]
[]
[]
[null,"VPs 1  / VRs 1"]
[]
[]
["Start.č.","Jméno","rok nar.","Družstvo","Zásahy",null,null,null,null,null,null,null,null,null,null,null,null,null,null,"Celkem"]
[{"$f":"Jednotlivci!B9","v":1},{"$f":"Jednotlivci!C9","v":"HANZLÍK Miroslav"},{"$f":"Jednotlivci!D9","v":1958},{"$f":"Jednotlivci!E9","v":"KVZ Liberec 1"},10,10,10,10,10,10,9,9,9,8,null,null,null,null,null,{"$f":"SUM(E13:S13)","v":95}]
[{"$f":"Jednotlivci!B10","v":2},{"$f":"Jednotlivci!C10","v":"TROST Karel"},{"$f":"Jednotlivci!D10","v":1951},{"$f":"Jednotlivci!E10","v":"KVZ Liberec 1"},10,10,10,10,10,10,10,10,10,9,null,null,null,null,null,99]
[{"$f":"Jednotlivci!B11","v":3},{"$f":"Jednotlivci!C11","v":"MENDYSZEWSKI Jan"},{"$f":"Jednotlivci!D11","v":1955},{"$f":"Jednotlivci!E11","v":"KVZ Liberec 1"},10,10,10,10,9,9,9,9,9,9,null,null,null,null,null,94]
[{"$f":"Jednotlivci!B12","v":4},{"$f":"Jednotlivci!C12","v":"VNOUČEK Miloš"},{"$f":"Jednotlivci!D12","v":1964},{"$f":"Jednotlivci!E12","v":"KVZ Liberec 1"},10,10,10,10,10,10,10,10,10,10,null,null,null,null,null,100]
[{"$f":"Jednotlivci!B13","v":5},{"$f":"Jednotlivci!C13","v":"VAŇÁTKO Petr"},{"$f":"Jednotlivci!D13","v":1961},{"$f":"Jednotlivci!E13","v":"KVZ Liberec  2"},9,9,9,9,9,9,9,9,9,7,null,null,null,null,null,88]
[{"$f":"Jednotlivci!B14","v":6},{"$f":"Jednotlivci!C14","v":"KUTÍK Milan"},{"$f":"Jednotlivci!D14","v":1976},{"$f":"Jednotlivci!E14","v":"KVZ Liberec  2"},10,9,9,8,8,8,7,6,6,6,null,null,null,null,null,77]
[{"$f":"Jednotlivci!B15","v":7},{"$f":"Jednotlivci!C15","v":"HANZLÍK Miroslav ml."},{"$f":"Jednotlivci!D15","v":1990},{"$f":"Jednotlivci!E15","v":"KVZ Liberec  2"},10,10,10,9,9,9,8,8,7,6,null,null,null,null,null,86]
[{"$f":"Jednotlivci!B16","v":8},{"$f":"Jednotlivci!C16","v":"VNOUČEK Tomáš"},{"$f":"Jednotlivci!D13","v":1961},{"$f":"Jednotlivci!E16","v":"KVZ Liberec  2"},10,10,10,10,10,10,10,9,9,9,null,null,null,null,null,97]
[{"$f":"Jednotlivci!B17","v":9},{"$f":"Jednotlivci!C17","v":"LOUDA Jaroslav"},{"$f":"Jednotlivci!D14","v":1976},{"$f":"Jednotlivci!E17","v":"KVZ Turnov"},10,9,9,9,9,9,8,8,7,0,null,null,null,null,null,78]
[10,{"$f":"Jednotlivci!C18","v":"HUŠEK Ladislav"},{"$f":"Jednotlivci!D15","v":1990},{"$f":"Jednotlivci!E18","v":"KVZ Turnov"},10,10,9,9,9,9,9,9,9,8,null,null,null,null,null,{"$f":"SUM(E22:S22)","v":91}]
[{"$f":"Jednotlivci!B19","v":11},{"$f":"Jednotlivci!C19","v":"HUDSKÝ Vítězslav"},{"$f":"Jednotlivci!D16","v":1988},{"$f":"Jednotlivci!E19","v":"KVZ Turnov"},10,10,10,9,9,9,9,9,7,7,null,null,null,null,null,89]
[{"$f":"Jednotlivci!B20","v":12},{"$f":"Jednotlivci!C20","v":"ŠÍDA Bohuslav"},{"$f":"Jednotlivci!D17","v":1954},{"$f":"Jednotlivci!E20","v":"KVZ Turnov"},10,10,10,10,10,9,9,9,9,9,null,null,null,null,null,95]
[{"$f":"Jednotlivci!B21","v":13},{"$f":"Jednotlivci!C21","v":"STRÁNSKÝ Jaromír"},{"$f":"Jednotlivci!D18","v":1954},{"$f":"Jednotlivci!E21","v":"KVZ Jenišovice "},10,10,10,10,10,10,10,9,9,9,null,null,null,null,null,97]
[{"$f":"Jednotlivci!B22","v":14},{"$f":"Jednotlivci!C22","v":"MIKULE Roman"},{"$f":"Jednotlivci!D19","v":1949},{"$f":"Jednotlivci!E22","v":"KVZ Jenišovice "},10,10,10,10,10,10,10,10,9,9,null,null,null,null,null,98]
[{"$f":"Jednotlivci!B23","v":15},{"$f":"Jednotlivci!C23","v":"POKORNÝ Daniel"},{"$f":"Jednotlivci!D20","v":1960},{"$f":"Jednotlivci!E23","v":"KVZ Jenišovice "},10,10,10,9,9,9,9,8,8,7,null,null,null,null,null,89]
[{"$f":"Jednotlivci!B24","v":16},{"$f":"Jednotlivci!C24","v":"PLŮCHA Pavel"},{"$f":"Jednotlivci!D21","v":1953},{"$f":"Jednotlivci!E24","v":"KVZ Tanvald"},10,10,10,10,10,10,10,10,9,9,null,null,null,null,null,98]
[{"$f":"Jednotlivci!B25","v":17},{"$f":"Jednotlivci!C25","v":"KUČERA Karel"},{"$f":"Jednotlivci!D22","v":1970},{"$f":"Jednotlivci!E25","v":"KVZ Hodkovice "},10,10,9,9,9,9,9,9,9,8,null,null,null,null,null,91]
[{"$f":"Jednotlivci!B26","v":18},{"$f":"Jednotlivci!C26","v":"PEKLÁK Dalibor"},{"$f":"Jednotlivci!D23","v":1968},{"$f":"Jednotlivci!E26","v":"KVZ Hodkovice "},10,10,10,10,10,10,10,9,9,9,null,null,null,null,null,97]
[{"$f":"Jednotlivci!B27","v":19},"BRZÁK Jan",{"$f":"Jednotlivci!D24","v":1964},{"$f":"Jednotlivci!E27","v":"KVZ Hodkovice "},10,10,10,10,10,10,10,9,9,9,null,null,null,null,null,97]
[{"$f":"Jednotlivci!B28","v":20},{"$f":"Jednotlivci!C28","v":"CILICHOVÁ Jaroslava"},{"$f":"Jednotlivci!D25","v":1950},{"$f":"Jednotlivci!E28","v":"KVZ Hodkovice "},10,10,10,9,9,9,9,9,9,9,null,null,null,null,null,93]
[{"$f":"Jednotlivci!B29","v":21},{"$f":"Jednotlivci!C29","v":"PROCHÁZKA Jaroslav"},{"$f":"Jednotlivci!D26","v":1961},{"$f":"Jednotlivci!E29","v":"KVZ Liberec  3"},10,10,9,9,9,9,9,8,8,0,null,null,null,null,null,81]
[{"$f":"Jednotlivci!B30","v":22},{"$f":"Jednotlivci!C30","v":"HLAVATÝ Josef"},{"$f":"Jednotlivci!D27","v":1972},{"$f":"Jednotlivci!E30","v":"KVZ Liberec  3"},10,10,10,10,9,9,9,9,0,-4,null,null,null,null,null,72]
[{"$f":"Jednotlivci!B31","v":23},{"$f":"Jednotlivci!C31","v":"BENÁČEK Martin"},{"$f":"Jednotlivci!D28","v":1973},{"$f":"Jednotlivci!E31","v":"KVZ Liberec  3"},10,10,10,10,10,10,10,10,10,10,null,null,null,null,null,100]
[{"$f":"Jednotlivci!B32","v":24},{"$f":"Jednotlivci!C32","v":"RESL Jan"},{"$f":"Jednotlivci!D29","v":1961},{"$f":"Jednotlivci!E32","v":"KVZ Hodkovice "},10,10,10,10,10,9,9,9,9,9,null,null,null,null,null,95]
[{"$f":"Jednotlivci!B33","v":25},{"$f":"Jednotlivci!C33","v":"HALAMA Jan"},{"$f":"Jednotlivci!D30","v":1958},{"$f":"Jednotlivci!E33","v":"KVZ Varnsdorf"},10,10,10,9,9,9,9,8,8,6,null,null,null,null,null,88]
[{"$f":"Jednotlivci!B34","v":26},{"$f":"Jednotlivci!C34","v":"NOVOTNÝ Tomáš"},{"$f":"Jednotlivci!D31","v":1965},{"$f":"Jednotlivci!E34","v":"KVZ Varnsdorf"},10,10,10,10,10,9,9,9,8,8,null,null,null,null,null,93]
[{"$f":"Jednotlivci!B35","v":27},{"$f":"Jednotlivci!C35","v":"ČERVINKA Leoš"},{"$f":"Jednotlivci!D32","v":1961},{"$f":"Jednotlivci!E35","v":"KVZ Jenišovice "},10,10,10,10,10,10,10,9,9,9,null,null,null,null,null,97]
[{"$f":"Jednotlivci!B36","v":28},{"$f":"Jednotlivci!C36","v":"VELC Jindřich"},{"$f":"Jednotlivci!D33","v":1977},{"$f":"Jednotlivci!E36","v":"KVZ Liberec"},10,10,10,10,10,9,9,9,8,7,null,null,null,null,null,{"$f":"SUM(E40:S40)","v":92}]
[{"$f":"Jednotlivci!B37","v":29},{"$f":"Jednotlivci!C37","v":"KRÁTKÝ Karel"},{"$f":"Jednotlivci!D34","v":1992},{"$f":"Jednotlivci!E37","v":"KVZ Liberec 4"},10,10,10,10,10,10,10,10,10,9,null,null,null,null,null,99]
[{"$f":"Jednotlivci!B38","v":30},{"$f":"Jednotlivci!C38","v":"KLACEK Miloš"},{"$f":"Jednotlivci!D35","v":1970},{"$f":"Jednotlivci!E38","v":"KVZ Liberec 4"},9,9,9,9,9,9,8,8,8,7,null,null,null,null,null,85]
[{"$f":"Jednotlivci!B39","v":31},{"$f":"Jednotlivci!C39","v":"POLENO Dušan"},{"$f":"Jednotlivci!D36","v":1948},{"$f":"Jednotlivci!E39","v":"KVZ Liberec 4"},10,10,10,10,9,9,9,9,8,0,null,null,null,null,null,84]
[{"$f":"Jednotlivci!B40","v":32},{"$f":"Jednotlivci!C40","v":"MUSIL Martin"},{"$f":"Jednotlivci!D37","v":1955},{"$f":"Jednotlivci!E40","v":"KVZ Liberec 4"},9,9,9,9,9,8,8,7,7,7,null,null,null,null,null,82]

{"sheet":"Ostatní","index":3,"n_rows":44,"n_cols":33,"rows_kept":44,"cut":false,"hidden":false,"merged":[[11,15,11,19],[11,21,11,25],[11,27,11,31],[11,3,11,7],[11,9,11,13]]}
[]
[]
[]
[]
[]
[]
[]
[]
[]
[]
[]
["St.č.","Jméno",null,"Zásahy  ZKM 456",null,null,null,null,"Celkem","Zásahy SVT 40",null,null,null,null,"Celkem","Zásahy SA 58",null,null,null,null,"Celkem","Zásahy Tokarev 33",null,null,null,null,"Celkem","Zásahy Slávia ",null,null,null,null,"Celkem"]
[{"$f":"Jednotlivci!B9","v":1},{"$f":"Jednotlivci!C9","v":"HANZLÍK Miroslav"},{"$f":"Jednotlivci!D9","v":1958},9,8,8,8,7,{"$f":"SUM(D13:H13)","v":40},10,10,9,9,8,{"$f":"SUM(J13:N13)","v":46},12,12,12,12,10,{"$f":"SUM(P13:T13)","v":58},9,7,5,4,3,{"$f":"SUM(V13:Z13)","v":28},10,8,6,8,8,{"$f":"SUM(AB13:AF13)","v":40}]
[{"$f":"Jednotlivci!B10","v":2},{"$f":"Jednotlivci!C10","v":"TROST Karel"},{"$f":"Jednotlivci!D10","v":1951},8,8,8,7,6,{"$f":"SUM(D14:H14)","v":37},10,9,9,8,8,{"$f":"SUM(J14:N14)","v":44},10,10,10,10,8,{"$f":"SUM(P14:T14)","v":48},10,10,9,8,8,45,4,8,6,5,9,{"$f":"SUM(AB14:AF14)","v":32}]
[{"$f":"Jednotlivci!B11","v":3},{"$f":"Jednotlivci!C11","v":"MENDYSZEWSKI Jan"},{"$f":"Jednotlivci!D11","v":1955},10,10,8,7,5,40,10,10,10,10,9,49,12,12,10,10,10,54,10,9,9,8,8,44,7,7,7,8,8,37]
[{"$f":"Jednotlivci!B12","v":4},{"$f":"Jednotlivci!C12","v":"VNOUČEK Miloš"},{"$f":"Jednotlivci!D12","v":1964},9,8,8,7,7,39,10,9,9,9,9,46,12,10,10,10,10,52,10,9,9,9,9,46,6,8,9,9,9,41]
[{"$f":"Jednotlivci!B13","v":5},{"$f":"Jednotlivci!C13","v":"VAŇÁTKO Petr"},{"$f":"Jednotlivci!#REF!","v":{"$error":"#REF!"}},10,10,9,9,8,46,10,10,9,8,8,45,12,10,10,10,8,50,9,8,7,6,5,35,4,7,5,6,4,26]
[{"$f":"Jednotlivci!B14","v":6},{"$f":"Jednotlivci!C14","v":"KUTÍK Milan"},{"$f":"Jednotlivci!D14","v":1976},9,9,9,8,7,42,10,9,9,8,8,44,10,10,10,8,8,46,10,9,9,8,8,44,1,6,6,8,2,23]
[{"$f":"Jednotlivci!B15","v":7},{"$f":"Jednotlivci!C15","v":"HANZLÍK Miroslav ml."},{"$f":"Jednotlivci!D15","v":1990},9,9,9,9,9,45,10,10,8,8,8,44,12,12,10,10,8,52,8,7,7,7,6,35,3,0,2,5,4,14]
[{"$f":"Jednotlivci!B16","v":8},{"$f":"Jednotlivci!C16","v":"VNOUČEK Tomáš"},{"$f":"Jednotlivci!D13","v":1961},9,9,8,8,7,41,10,9,9,8,8,44,12,10,10,10,10,52,10,8,8,8,8,42,4,8,8,9,9,38]
[{"$f":"Jednotlivci!B17","v":9},{"$f":"Jednotlivci!C17","v":"LOUDA Jaroslav"},{"$f":"Jednotlivci!D19","v":1949},5,2,1,1,0,9,9,8,7,6,5,35,10,10,8,0,0,28,10,9,7,6,6,38,6,6,10,5,9,36]
[{"$f":"Jednotlivci!B18","v":10},{"$f":"Jednotlivci!C18","v":"HUŠEK Ladislav"},{"$f":"Jednotlivci!D20","v":1960},9,7,7,5,3,31,10,10,10,10,8,48,12,10,10,10,10,52,8,7,6,5,3,29,9,7,8,3,7,34]
[{"$f":"Jednotlivci!B19","v":11},{"$f":"Jednotlivci!C19","v":"HUDSKÝ Vítězslav"},{"$f":"Jednotlivci!D17","v":1954},10,8,6,6,5,35,10,10,9,8,7,44,10,10,10,10,10,50,9,8,8,8,6,39,9,8,3,7,3,30]
[{"$f":"Jednotlivci!B20","v":12},{"$f":"Jednotlivci!C20","v":"ŠÍDA Bohuslav"},{"$f":"Jednotlivci!#REF!","v":{"$error":"#REF!"}},7,6,6,5,5,29,9,9,9,7,7,41,12,10,10,8,8,48,10,10,9,9,8,46,9,7,9,8,8,41]
[{"$f":"Jednotlivci!B21","v":13},{"$f":"Jednotlivci!C21","v":"STRÁNSKÝ Jaromír"},{"$f":"Jednotlivci!D21","v":1953},9,8,8,8,7,40,10,10,9,9,9,47,10,10,10,8,8,46,10,8,8,8,7,41,6,8,9,6,9,38]
[{"$f":"Jednotlivci!B22","v":14},{"$f":"Jednotlivci!C22","v":"MIKULE Roman"},{"$f":"Jednotlivci!D24","v":1964},10,8,8,8,8,42,10,10,8,8,8,44,12,10,8,8,8,46,10,9,9,8,7,43,8,8,8,5,9,38]
[{"$f":"Jednotlivci!B23","v":15},{"$f":"Jednotlivci!C23","v":"POKORNÝ Daniel"},{"$f":"Jednotlivci!D23","v":1968},10,9,8,7,7,41,10,9,9,8,8,44,10,10,10,10,10,50,9,9,8,7,7,40,6,7,8,7,7,35]
[{"$f":"Jednotlivci!B24","v":16},{"$f":"Jednotlivci!C24","v":"PLŮCHA Pavel"},{"$f":"Jednotlivci!D22","v":1970},10,9,9,8,8,44,10,10,10,9,9,48,10,10,10,10,8,48,9,9,8,8,8,42,9,8,6,10,8,41]
[{"$f":"Jednotlivci!B25","v":17},{"$f":"Jednotlivci!C25","v":"KUČERA Karel"},{"$f":"Jednotlivci!D25","v":1950},8,7,5,5,4,29,10,10,10,9,9,48,12,10,10,10,8,50,10,9,9,8,6,42,8,6,6,4,6,30]
[{"$f":"Jednotlivci!B26","v":18},{"$f":"Jednotlivci!C26","v":"PEKLÁK Dalibor"},{"$f":"Jednotlivci!D26","v":1961},7,7,7,7,6,34,10,10,10,9,9,48,12,12,12,10,10,56,9,9,9,8,7,42,9,6,8,5,7,35]
[{"$f":"Jednotlivci!B27","v":19},"BRZÁK Jan",{"$f":"Jednotlivci!D27","v":1972},10,8,8,8,7,41,10,10,9,9,9,47,12,10,10,10,10,52,10,10,9,8,5,42,7,6,7,7,9,36]
[{"$f":"Jednotlivci!B28","v":20},{"$f":"Jednotlivci!C28","v":"CILICHOVÁ Jaroslava"},{"$f":"Jednotlivci!D28","v":1973},10,10,9,8,7,44,10,10,10,9,9,48,12,10,10,10,10,52,10,9,9,8,8,44,7,7,6,6,6,32]
[{"$f":"Jednotlivci!B29","v":21},{"$f":"Jednotlivci!C29","v":"PROCHÁZKA Jaroslav"},{"$f":"Jednotlivci!D29","v":1961},10,9,8,8,7,42,10,10,9,9,9,47,12,12,10,10,10,54,9,9,9,9,8,44,4,9,7,10,9,39]
[{"$f":"Jednotlivci!B30","v":22},{"$f":"Jednotlivci!C30","v":"HLAVATÝ Josef"},{"$f":"Jednotlivci!D31","v":1965},10,9,9,8,8,44,10,9,8,7,7,41,12,12,12,10,10,56,10,9,9,8,8,44,7,3,7,3,9,29]
[{"$f":"Jednotlivci!B31","v":23},{"$f":"Jednotlivci!C31","v":"BENÁČEK Martin"},{"$f":"Jednotlivci!D30","v":1958},10,9,8,8,7,42,10,10,9,9,9,47,10,10,10,8,8,46,10,9,9,8,6,42,5,3,1,7,7,23]
[{"$f":"Jednotlivci!B32","v":24},{"$f":"Jednotlivci!C32","v":"RESL Jan"},{"$f":"Jednotlivci!D32","v":1961},9,9,8,8,8,42,9,9,9,9,9,45,10,10,8,8,8,44,9,8,8,8,7,40,7,8,8,6,1,30]
[{"$f":"Jednotlivci!B33","v":25},{"$f":"Jednotlivci!C33","v":"HALAMA Jan"},{"$f":"Jednotlivci!#REF!","v":{"$error":"#REF!"}},10,9,9,8,6,42,10,8,8,7,7,40,10,10,10,8,8,46,10,10,8,7,7,42,5,5,3,8,7,28]
[{"$f":"Jednotlivci!B34","v":26},{"$f":"Jednotlivci!C34","v":"NOVOTNÝ Tomáš"},{"$f":"Jednotlivci!D34","v":1992},9,8,8,7,7,39,10,9,9,9,9,46,10,10,8,8,6,42,10,7,0,0,0,17,7,0,9,6,4,26]
[{"$f":"Jednotlivci!B35","v":27},{"$f":"Jednotlivci!C35","v":"ČERVINKA Leoš"},{"$f":"Jednotlivci!D35","v":1970},7,7,6,5,4,29,7,7,6,6,0,26,12,10,10,6,6,44,9,7,7,7,6,36,7,8,7,8,7,37]
[28,{"$f":"Jednotlivci!C36","v":"VELC Jindřich"},{"$f":"Jednotlivci!D36","v":1948},6,5,4,4,2,21,10,10,9,9,8,46,10,8,8,8,6,40,8,8,8,7,6,37,6,4,7,2,0,19]
[29,{"$f":"Jednotlivci!C37","v":"KRÁTKÝ Karel"},{"$f":"Jednotlivci!D37","v":1955},10,10,9,9,9,47,10,10,10,10,9,49,12,12,10,10,10,54,10,9,8,8,6,41,7,5,7,7,4,30]
[30,{"$f":"Jednotlivci!C38","v":"KLACEK Miloš"},{"$f":"Jednotlivci!D38","v":1939},10,3,0,0,0,13,10,9,8,8,7,42,10,10,10,10,8,48,10,10,7,6,6,39,7,6,6,7,4,30]
[31,{"$f":"Jednotlivci!C39","v":"POLENO Dušan"},{"$f":"Jednotlivci!D39","v":1951},9,7,7,6,6,35,10,9,9,9,9,46,10,10,10,10,10,50,9,9,9,8,7,42,6,6,7,8,6,33]
[32,{"$f":"Jednotlivci!C40","v":"MUSIL Martin"},{"$f":"Jednotlivci!D40","v":1977},8,8,6,6,6,34,10,9,8,8,7,42,10,8,8,8,8,42,10,9,8,8,6,41,9,3,6,5,7,30]